BEGIN:VCALENDAR
VERSION:2.0
PRODID:-//wp-events-plugin.com//7.2.3.1//EN
BEGIN:VEVENT
UID:26@brassband-muenchen.de
DTSTART;TZID=Europe/Berlin:20260418T190000
DTEND;TZID=Europe/Berlin:20260418T210000
DTSTAMP:20260417T201847Z
URL:https://brassband-muenchen.de/konzerte/2026-beccult/
SUMMARY:Brass Band München - Bürgersaal Beccult Pöcking
DESCRIPTION:\nDie Brass Band München präsentiert als Blechbläserensemble
  nach englischem Vorbild ein facettenreiches Konzertprogramm\, das die kla
 nglichen Möglichkeiten der Brass-Band-Besetzung eindrucksvoll zur Geltung
  bringt. Mit charakteristischem Sound\, großer dynamischer Bandbreite und
  stilistischer Vielfalt entsteht ein abwechslungsreicher Konzertabend.\nMi
 t The Day of the Lord entfaltet sich eindrucksvolle geistliche Klangfülle
  und emotionale Tiefe. Das mythologisch inspirierte Daedalus zeichnet dram
 atische musikalische Bilder voller Spannung und Bewegung. Darüber hinaus 
 setzen mehrere Solobeiträge besondere Glanzlichter und verleihen dem Aben
 d eine persönliche\, farbenreiche Note.\nEin Konzert voller Kontraste –
  von meditativer Ruhe bis zu mitreißender Energie.\nKarten zu 18 €\, 12
  € ermäßigt Schüler/Studenten/Menschen mit Schwerbehinderung.\nAbendk
 asse zzgl. 2 €.\n\nVorverkaufsstellen:\n\n 	Gemeindebücherei Pöcking\n
 Hauptstr. 8\, 82343 Pöcking\, Tel. 08157-4871\n 	Tourismusbüro Starnberg
 \nHauptstraße 1\, 82319 Starnberg\, Tel. 08151-90600\n\n\n\nHinweis: Der 
 VVK über die Homepage ist beendet. Gerne spontan zur Abendkasse kommen.\n
 \n\n
LOCATION:Beccult Pöcking\, Weilheimer Straße 33\, Pöcking\, 82343\, Deut
 schland
X-APPLE-STRUCTURED-LOCATION;VALUE=URI;X-ADDRESS=Weilheimer Straße 33\, Pö
 cking\, 82343\, Deutschland;X-APPLE-RADIUS=100;X-TITLE=Beccult Pöcking:ge
 o:0,0
END:VEVENT
BEGIN:VTIMEZONE
TZID:Europe/Berlin
X-LIC-LOCATION:Europe/Berlin
BEGIN:DAYLIGHT
DTSTART:20260329T030000
TZOFFSETFROM:+0100
TZOFFSETTO:+0200
TZNAME:CEST
END:DAYLIGHT
END:VTIMEZONE
END:VCALENDAR